BEGIN:VCALENDAR
VERSION:2.0
PRODID:-//Sociocracy For All - ECPv6.15.16//NONSGML v1.0//EN
CALSCALE:GREGORIAN
METHOD:PUBLISH
X-WR-CALNAME:Sociocracy For All
X-ORIGINAL-URL:https://staging.sociocracyforall.org/it/
X-WR-CALDESC:Eventi per Sociocracy For All
REFRESH-INTERVAL;VALUE=DURATION:PT1H
X-Robots-Tag:noindex
X-PUBLISHED-TTL:PT1H
BEGIN:VTIMEZONE
TZID:Europe/Rome
BEGIN:DAYLIGHT
TZOFFSETFROM:+0100
TZOFFSETTO:+0200
TZNAME:CEST
DTSTART:20210328T010000
END:DAYLIGHT
BEGIN:STANDARD
TZOFFSETFROM:+0200
TZOFFSETTO:+0100
TZNAME:CET
DTSTART:20211031T010000
END:STANDARD
BEGIN:DAYLIGHT
TZOFFSETFROM:+0100
TZOFFSETTO:+0200
TZNAME:CEST
DTSTART:20220327T010000
END:DAYLIGHT
BEGIN:STANDARD
TZOFFSETFROM:+0200
TZOFFSETTO:+0100
TZNAME:CET
DTSTART:20221030T010000
END:STANDARD
BEGIN:DAYLIGHT
TZOFFSETFROM:+0100
TZOFFSETTO:+0200
TZNAME:CEST
DTSTART:20230326T010000
END:DAYLIGHT
BEGIN:STANDARD
TZOFFSETFROM:+0200
TZOFFSETTO:+0100
TZNAME:CET
DTSTART:20231029T010000
END:STANDARD
BEGIN:DAYLIGHT
TZOFFSETFROM:+0100
TZOFFSETTO:+0200
TZNAME:CEST
DTSTART:20240331T010000
END:DAYLIGHT
BEGIN:STANDARD
TZOFFSETFROM:+0200
TZOFFSETTO:+0100
TZNAME:CET
DTSTART:20241027T010000
END:STANDARD
END:VTIMEZONE
BEGIN:VEVENT
DTSTART;TZID=Europe/Rome:20230218T100000
DTEND;TZID=Europe/Rome:20230218T130000
DTSTAMP:20260423T044325
CREATED:20230129T094015Z
LAST-MODIFIED:20230217T130510Z
UID:10002370-1676714400-1676725200@staging.sociocracyforall.org
SUMMARY:Corso Base di Sociocrazia (febbraio 2023)
DESCRIPTION:Corso Base di Sociocrazia: Decidere Insieme con Equità e Efficacia\nQuesto breve corso introduttivo è per chiunque sia interessata ad approfondire e praticare i concetti e gli strumenti alla base della sociocrazia (un sistema organizzativo che ci aiuta a prendere decisioni in maniera equa ed efficace). \nIl Corso Base di Sociocrazia è un percorso esperienziale e interattivo e si svolgerà in due sessioni da tre ore ciascuna. \n\nCome è strutturata un’organizzazione nella sociocrazia? Come posso disegnare la mia struttura a cerchi?\nCome distribuiamo attivamente il potere in un’organizzazione? Cosa significa lavorare per uno scopo comune?\nQuali ruoli troviamo nella sociocrazia? Cosa fanno la coordinatrice\, il delegato\, la facilitatrice e il segretario?\nCome definiamo la persona che ricoprirà un determinato ruolo prendendo tutti in considerazione?\nCome e quando prendere una decisione insieme\, ascoltando la voce di tutte ma senza perdere tempo prezioso?\nCosa significa porre un’obiezione? E come possiamo trasformarla in un’opportunità di miglioramento?\n\n\nProgramma\n\n\n\n\nGiorno\n\n\n\nOra\n\n\n\nTema\n\n\n\n\nSabato 18 febbraio\ndalle 10 alle 13\n\nStruttura\, ruoli e selezioni\n\n\n\nSabato 25 febbraio\ndalle 10 alle 13\nAssenso\, obiezioni e feedback\n\n\n\n\n  \nLivello\nTi consigliamo di partecipare ad una presentazione gratuita sulla sociocrazia (circa una volta al mese) prima di partecipare a questo corso. Controlla la pagina degli eventi per scoprire quando sarà la prossima e registrarti! \n  \nFormatore\nQuesto corso è tenuto da Thomas Kemps\, facilitatore certificato da Sociocracy For All e in certificazione come formatore e consulente di sociocrazia. \n  \nRegistrati\nPer registrarsi è necessario acquistare il biglietto in fondo a questa pagina. Il costo del biglietto per partecipare è di 100 Euro. \nIl nostro scopo come Sociocrazia Italia è di diffondere la sociocrazia in maniera accessibile: per questo mettiamo a disposizione dei prezzi ridotti per chi lo ritenesse più adatto al proprio reddito. Contattami all’indirizzo thomas.kemps@sociocracyforall.org includendo un breve paragrafo sulla tua situazione e quale costo saresti disposta a sostenere; ti invierò un coupon per accedere allo sconto. \n\n\n\nPrezzo intero\n€100\n\n\nRiduzione possibile in caso di bisogno\n\nScrivi a thomas.kemps@sociocracyforall.org\n\n\n\n  \nRegistrati qui sotto! I posti sono limitati per poter praticare e apprendere in piccoli gruppi.\n 
URL:https://staging.sociocracyforall.org/it/event/corso-base-sociocrazia-2023-febbraio/
LOCATION:Mars – SoFA Zoom Room\, https://zoom.sociocracyforall.org/mars-zoom-180463541
CATEGORIES:corso base
ATTACH;FMTTYPE=image/png:https://staging.sociocracyforall.org/wp-content/uploads/2023/01/locandina-corso-base-di-sociocrazia-post-facebook-orizzontale1.png
ORGANIZER;CN="Sociocrazia Italia":MAILTO:informazioni@sociocracyforall.org
END:VEVENT
BEGIN:VEVENT
DTSTART;TZID=Europe/Rome:20230211T110000
DTEND;TZID=Europe/Rome:20230211T120000
DTSTAMP:20260423T044325
CREATED:20230126T100233Z
LAST-MODIFIED:20230209T084957Z
UID:10002340-1676113200-1676116800@staging.sociocracyforall.org
SUMMARY:Presentazione gratuita: Cos'è la sociocrazia?
DESCRIPTION:? Un’introduzione gratuita sulla sociocrazia!\nIllustreremo gli elementi base della sociocrazia e cosa cerchiamo di ottenere con un sistema auto-organizzante. Ci sarà spazio per domande e condivisioni. \n?‍? Di cosa parleremo\n\nPotere: cosa intendiamo di solito? E come potrebbe essere\, in un’accezione collaborativa?\nDecisioni: come si possono prendere le decisioni nei diversi sistemi organizzativi?\nPrincipi base della sociocrazia: cerchi\, ruoli\, assenso\nEvoluzione: perché la sociocrazia permette di evolvere\, come organizzazioni e come singoli\n\n? Quando?\n11 febbraio dalle 11:00 alle 12:00 \n? Iscriviti!\nPer ricevere il link Zoom è necessario iscriversi qui sotto. Se vi va\, considerate la possibilità di fare una donazione per aiutare Sociocrazia Italia e Sociocracy For All a diffondere la sociocrazia in maniera accessibile. \nVi aspettiamo! \n\n  \n\n	Avviso: JavaScript è obbligatorio per questo contenuto.
URL:https://staging.sociocracyforall.org/it/event/presentazione-gratuita-sociocrazia-2023-febbraio/
LOCATION:Venus – SoFA Zoom Room\, https://zoom.sociocracyforall.org/venus-zoom-299978898
CATEGORIES:evento introduzione
ATTACH;FMTTYPE=image/png:https://staging.sociocracyforall.org/wp-content/uploads/2023/01/cos-e-la-sociocrazia-presentazione-introduttiva-facebook-post1.png
ORGANIZER;CN="Sociocrazia Italia":MAILTO:informazioni@sociocracyforall.org
END:VEVENT
BEGIN:VEVENT
DTSTART;TZID=Europe/Rome:20230118T180000
DTEND;TZID=Europe/Rome:20230118T200000
DTSTAMP:20260423T044325
CREATED:20221226T120905Z
LAST-MODIFIED:20230106T174758Z
UID:10002288-1674064800-1674072000@staging.sociocracyforall.org
SUMMARY:Corso Base di Sociocrazia (gennaio 2023)
DESCRIPTION:Corso Base di Sociocrazia: Decidere Insieme con Equità e Efficacia\nQuesto breve corso introduttivo è per chiunque sia interessata ad approfondire e praticare i concetti e gli strumenti alla base della sociocrazia (un sistema organizzativo che ci aiuta a prendere decisioni in maniera equa ed efficace). \nIl Corso Base di Sociocrazia è un percorso esperienziale e interattivo e si svolgerà in tre sessioni da due ore ciascuna. \n\nCome è strutturata un’organizzazione nella sociocrazia? Come posso disegnare la mia struttura a cerchi?\nCome distribuiamo attivamente il potere in un’organizzazione? Cosa significa lavorare per uno scopo comune?\nQuali ruoli troviamo nella sociocrazia? Cosa fanno la coordinatrice\, il delegato\, la facilitatrice e il segretario?\nCome definiamo la persona che ricoprirà un determinato ruolo prendendo tutti in considerazione?\nCome e quando prendere una decisione insieme\, ascoltando la voce di tutte ma senza perdere tempo prezioso?\nCosa significa porre un’obiezione? E come possiamo trasformarla in un’opportunità di miglioramento?\n\n\nProgramma\n\n\n\n\nGiorno\n\n\n\nOra\n\n\n\nTema\n\n\n\n\nMercoledì 18 gennaio\ndalle ore 18 alle 20\nStruttura e ruoli\n\n\nMercoledì 25 gennaio\ndalle ore 18 alle 20\nSelezioni e assenso\n\n\nMercoledì 1 febbraio\ndalle ore 18 alle 20\nObiezioni e feedback\n\n\n\n  \nLivello\nQuesto corso richiede una comprensione minima della sociocrazia: potrebbe esserti utile quindi partecipare ad una presentazione gratuita sulla sociocrazia (circa una volta al mese). Controlla la pagina degli eventi per scoprire quando sarà la prossima e registrarti! \n  \nRegistrati\nIl costo del Corso Base l nostro scopo come Sociocrazia Italia è di diffondere la sociocrazia in maniera accessibile: per questo mettiamo a disposizione uno sconto del 30% per chi lo ritenesse più adatto al proprio reddito. \nNel caso in cui anche il costo ridotto non sia per te accessibile\, non esitare a contattarmi all’indirizzo thomas.kemps@sociocracyforall.org includendo un breve paragrafo sulla tua situazione e quale costo saresti disposta a sostenere. \n\n\n\nIntero\n€100\n\n\nRidotto (-30%)\n\n€70\n\n\nUlteriori riduzioni in caso di bisogno\nScrivi a thomas.kemps@sociocracyforall.org\n\n\n\n  \nRegistrati qui sotto! I posti sono limitati per poter praticare e apprendere in piccoli gruppi. \n 
URL:https://staging.sociocracyforall.org/it/event/corso-base-sociocrazia-2023-01/
LOCATION:Venus – SoFA Zoom Room\, https://zoom.sociocracyforall.org/venus-zoom-299978898
CATEGORIES:corso base
ATTACH;FMTTYPE=image/png:https://staging.sociocracyforall.org/wp-content/uploads/2022/12/corso-base-di-sociocrazia-gennaio-2023-post-facebook-orizzontale.png
ORGANIZER;CN="Sociocrazia Italia":MAILTO:informazioni@sociocracyforall.org
END:VEVENT
BEGIN:VEVENT
DTSTART;TZID=Europe/Rome:20221221T183000
DTEND;TZID=Europe/Rome:20221221T193000
DTSTAMP:20260423T044325
CREATED:20221204T191040Z
LAST-MODIFIED:20221207T101709Z
UID:10002277-1671647400-1671651000@staging.sociocracyforall.org
SUMMARY:Presentazione gratuita: Cos'è la sociocrazia?
DESCRIPTION:? Un’introduzione gratuita sulla sociocrazia!\nIllustreremo gli elementi base della sociocrazia e cosa cerchiamo di ottenere con un sistema auto-organizzante. Ci sarà spazio per domande e condivisioni. \n?‍? Di cosa parleremo\n\nPotere: cosa intendiamo di solito? E come potrebbe essere\, in un’accezione collaborativa?\nDecisioni: come si possono prendere le decisioni nei diversi sistemi organizzativi?\nPrincipi base della sociocrazia: cerchi\, ruoli\, assenso\nEvoluzione: perché la sociocrazia permette di evolvere\, come organizzazioni e come singoli\n\n? Quando?\n21 dicembre dalle 18:30 alle 19.30 \n? Iscriviti!\nPer ricevere il link Zoom è necessario iscriversi qui sotto. Se vi va\, considerate la possibilità di fare una donazione per aiutare Sociocrazia Italia e Sociocracy For All a diffondere la sociocrazia in maniera accessibile. \nVi aspettiamo! \n\n  \n\n	Avviso: JavaScript è obbligatorio per questo contenuto.
URL:https://staging.sociocracyforall.org/it/event/sociocrazia-presentazione-gratuita-2022-12-21/
LOCATION:Venus – SoFA Zoom Room\, https://zoom.sociocracyforall.org/venus-zoom-299978898
CATEGORIES:evento introduzione
ATTACH;FMTTYPE=image/png:https://staging.sociocracyforall.org/wp-content/uploads/2022/12/cos-e-la-sociocrazia-presentazione-introduttiva-facebook-post.png
ORGANIZER;CN="Sociocrazia Italia":MAILTO:informazioni@sociocracyforall.org
END:VEVENT
END:VCALENDAR